BEGIN:VCALENDAR
VERSION:2.0
PRODID:Events Booking
BEGIN:VEVENT
UID:69e8b00bee9eb
SUMMARY:Drone Innovation Corridor Pilot Zone
DESCRIPTION:
LOCATION:Virtual
DTSTART:20240520T090000Z
DTEND:20240520T110000Z
DTSTAMP:20240517T144712Z
ORGANIZER;CN=Transport Forum:MAILTO:info@transportsig.com
END:VEVENT
END:VCALENDAR