BEGIN:VCALENDAR
VERSION:2.0
PRODID:Events Booking
BEGIN:VEVENT
UID:69e89ccd761ed
SUMMARY:DRONES AND UNMANNED AVIATION CONFERENCE 2024
DESCRIPTION:
LOCATION:64 Jones Rd\, Kempton Park\, Johannesburg\, 1620
DTSTART:20240606T060000Z
DTEND:20240607T150000Z
DTSTAMP:20240425T093540Z
ORGANIZER;CN=Transport Forum:MAILTO:info@transportsig.com
END:VEVENT
END:VCALENDAR