BEGIN:VCALENDAR
VERSION:2.0
PRODID:Events Booking
BEGIN:VEVENT
UID:69e88ac74d8cb
SUMMARY:ESG Conference
DESCRIPTION:
LOCATION:Fairways Hotel\, Spa & Golf Resort\, Randpark
DTSTART:20240725T060000Z
DTEND:20240725T140000Z
DTSTAMP:20240621T104410Z
ORGANIZER;CN=Transport Forum:MAILTO:info@transportsig.com
END:VEVENT
END:VCALENDAR