BEGIN:VCALENDAR
VERSION:2.0
PRODID:Events Booking
BEGIN:VEVENT
UID:69e87c1c38efc
SUMMARY:FleetWatch Fundraising Golf Day 2024
DESCRIPTION:
LOCATION:Bryanston Country Club
DTSTART:20240814T050000Z
DTEND:20240814T180000Z
DTSTAMP:20240429T204702Z
ORGANIZER;CN=Transport Forum:MAILTO:info@transportsig.com
END:VEVENT
END:VCALENDAR