BEGIN:VCALENDAR
VERSION:2.0
PRODID:Events Booking
BEGIN:VEVENT
UID:69e9511160230
SUMMARY:FleetWatch Fundraising Golf Day on August 18\, 2023 at Bryanston Co
 untry Club
DESCRIPTION:
LOCATION:Bryanston
DTSTART:20230818T050000Z
DTEND:20230818T150000Z
DTSTAMP:20230628T190423Z
ORGANIZER;CN=Transport Forum:MAILTO:info@transportsig.com
END:VEVENT
END:VCALENDAR