BEGIN:VCALENDAR
VERSION:2.0
PRODID:Events Booking
BEGIN:VEVENT
UID:69e8a007e9f73
SUMMARY:FPSO Africa Congress 2024 - In Cape Town\, South Africa
DESCRIPTION:
LOCATION:Lagoon Beach Hotel\, Cape Town 
DTSTART:20240624T060000Z
DTEND:20240627T150000Z
DTSTAMP:20240331T133500Z
ORGANIZER;CN=Transport Forum:MAILTO:info@transportsig.com
END:VEVENT
END:VCALENDAR