BEGIN:VCALENDAR
VERSION:2.0
PRODID:Events Booking
BEGIN:VEVENT
UID:69e92a63d54a2
SUMMARY: Free USFCPA Webinar
DESCRIPTION:
LOCATION:Webinar
DTSTART:20231018T080000Z
DTEND:20231018T110000Z
DTSTAMP:20231016T123133Z
ORGANIZER;CN=Transport Forum:MAILTO:info@transportsig.com
END:VEVENT
END:VCALENDAR