BEGIN:VCALENDAR
VERSION:2.0
PRODID:Events Booking
BEGIN:VEVENT
UID:69e9519d592f5
SUMMARY:Free Webinar: Payment Options for Your Exports
DESCRIPTION:
LOCATION:Virtual
DTSTART:20230816T060000Z
DTEND:20230816T130000Z
DTSTAMP:20230809T141904Z
ORGANIZER;CN=Transport Forum:MAILTO:info@transportsig.com
END:VEVENT
END:VCALENDAR