BEGIN:VCALENDAR
VERSION:2.0
PRODID:Events Booking
BEGIN:VEVENT
UID:69e86c0cea8aa
SUMMARY:Global Mass Transit 
DESCRIPTION:
LOCATION:Dubai\, UAE
DTSTART:20240910T060000Z
DTEND:20240911T150000Z
DTSTAMP:20240425T091027Z
ORGANIZER;CN=Transport Forum:MAILTO:info@transportsig.com
END:VEVENT
END:VCALENDAR