BEGIN:VCALENDAR
VERSION:2.0
PRODID:Events Booking
BEGIN:VEVENT
UID:69e8e7fb9fe66
SUMMARY:GOVERNMENT PROCUREMENT & SCM SYMPOSIUM
DESCRIPTION:
LOCATION:MANHATTAN HOTEL\, PRETORIA
DTSTART:20240221T060000Z
DTEND:20240223T150000Z
DTSTAMP:20240214T194850Z
ORGANIZER;CN=Transport Forum:MAILTO:info@transportsig.com
END:VEVENT
END:VCALENDAR