BEGIN:VCALENDAR
VERSION:2.0
PRODID:Events Booking
BEGIN:VEVENT
UID:69e89d2fede84
SUMMARY:ICFF Webinar Announcement! 
DESCRIPTION:
LOCATION:Webinar
DTSTART:20240605T153000Z
DTEND:20240605T163000Z
DTSTAMP:20240522T045230Z
ORGANIZER;CN=Transport Forum:MAILTO:info@transportsig.com
END:VEVENT
END:VCALENDAR