BEGIN:VCALENDAR
VERSION:2.0
PRODID:Events Booking
BEGIN:VEVENT
UID:69e91aa929cc7
SUMMARY:IRF Annual Conference 2023
DESCRIPTION:
LOCATION:Virtual
DTSTART:20231121T060000Z
DTEND:20231122T143000Z
DTSTAMP:20231031T184348Z
ORGANIZER;CN=Transport Forum:MAILTO:info@transportsig.com
END:VEVENT
END:VCALENDAR