BEGIN:VCALENDAR
VERSION:2.0
PRODID:Events Booking
BEGIN:VEVENT
UID:69e91b4966b65
SUMMARY:ISWIM - Technology Convergence 2023. Reimagining the Future of Heav
 y Vehicles\, Roads and Freight.
DESCRIPTION:
LOCATION:Australia
DTSTART:20231106T060000Z
DTEND:20231110T143000Z
DTSTAMP:20230628T194523Z
ORGANIZER;CN=Transport Forum:MAILTO:info@transportsig.com
END:VEVENT
END:VCALENDAR