BEGIN:VCALENDAR
VERSION:2.0
PRODID:Events Booking
BEGIN:VEVENT
UID:69e93eaa154d5
SUMMARY:Key Operational\, Safety & Management Elements in LNG Terminal Oper
 ations
DESCRIPTION:
LOCATION:Durban
DTSTART:20230919T060000Z
DTEND:20230922T140000Z
DTSTAMP:20230628T180225Z
ORGANIZER;CN=Transport Forum:MAILTO:info@transportsig.com
END:VEVENT
END:VCALENDAR