BEGIN:VCALENDAR
VERSION:2.0
PRODID:Events Booking
BEGIN:VEVENT
UID:69e94f038f64d
SUMMARY:LPG Shipping and Storage\, Supply Chain: Source-Ship-Terminal
DESCRIPTION:
LOCATION:Virtual
DTSTART:20230814T060000Z
DTEND:20230816T140000Z
DTSTAMP:20230628T190002Z
ORGANIZER;CN=Transport Forum:MAILTO:info@transportsig.com
END:VEVENT
END:VCALENDAR