BEGIN:VCALENDAR
VERSION:2.0
PRODID:Events Booking
BEGIN:VEVENT
UID:69e91afcb3df4
SUMMARY:LPG Shipping and Storage\, Supply Chain
DESCRIPTION:
LOCATION:Virtual
DTSTART:20231108T060000Z
DTEND:20231110T143000Z
DTSTAMP:20230628T195039Z
ORGANIZER;CN=Transport Forum:MAILTO:info@transportsig.com
END:VEVENT
END:VCALENDAR