BEGIN:VCALENDAR
VERSION:2.0
PRODID:Events Booking
BEGIN:VEVENT
UID:69e87b4eabc24
SUMMARY:Mixed-Use Transit Oriented Developments @ Singapore
DESCRIPTION:
LOCATION:Grand Copthorne Waterfront Hotel\, Singapore
DTSTART:20240819T042500Z
DTEND:20240821T150000Z
DTSTAMP:20240723T054409Z
ORGANIZER;CN=Transport Forum:MAILTO:info@transportsig.com
END:VEVENT
END:VCALENDAR