BEGIN:VCALENDAR
VERSION:2.0
PRODID:Events Booking
BEGIN:VEVENT
UID:69e87c52940fc
SUMMARY:Namibia Oil and Gas Conference\, Windhoek\, Namibia
DESCRIPTION:
LOCATION:Mercure Hotel Windhoek
DTSTART:20240820T053000Z
DTEND:20240822T150000Z
DTSTAMP:20240730T054900Z
ORGANIZER;CN=Transport Forum:MAILTO:info@transportsig.com
END:VEVENT
END:VCALENDAR