BEGIN:VCALENDAR
VERSION:2.0
PRODID:Events Booking
BEGIN:VEVENT
UID:69e85b748c55e
SUMMARY:National Truck Stop Framework Project in Collaboration with the Dep
 artment of Transport
DESCRIPTION:
LOCATION:Virtual
DTSTART:20241008T063000Z
DTEND:20241008T080000Z
DTSTAMP:20241001T050313Z
ORGANIZER;CN=Transport Forum:MAILTO:info@transportsig.com
END:VEVENT
END:VCALENDAR