BEGIN:VCALENDAR
VERSION:2.0
PRODID:Events Booking
BEGIN:VEVENT
UID:69e8e6208477b
SUMMARY:New and Improved Ways to Transition into a Smart Warehouse
DESCRIPTION:
LOCATION:Dubai\, UAE
DTSTART:20240212T060000Z
DTEND:20240215T140000Z
DTSTAMP:20240130T204844Z
ORGANIZER;CN=Transport Forum:MAILTO:info@transportsig.com
END:VEVENT
END:VCALENDAR