BEGIN:VCALENDAR
VERSION:2.0
PRODID:Events Booking
BEGIN:VEVENT
UID:69e88ac74a713
SUMMARY:Optimising Warehouse Performance Workshop
DESCRIPTION:
LOCATION:Virtual & Holiday Inn\, Sandton
DTSTART:20240710T060000Z
DTEND:20240711T143000Z
DTSTAMP:20240522T043625Z
ORGANIZER;CN=Transport Forum:MAILTO:info@transportsig.com
END:VEVENT
END:VCALENDAR