BEGIN:VCALENDAR
VERSION:2.0
PRODID:Events Booking
BEGIN:VEVENT
UID:69e950e671fb3
SUMMARY:Ports and specialized terminals for dry bulk\, liquid bulk\, and co
 ntainer operations
DESCRIPTION:
LOCATION:Durban
DTSTART:20230821T060000Z
DTEND:20230824T220000Z
DTSTAMP:20230628T191110Z
ORGANIZER;CN=Transport Forum:MAILTO:info@transportsig.com
END:VEVENT
END:VCALENDAR