BEGIN:VCALENDAR
VERSION:2.0
PRODID:Events Booking
BEGIN:VEVENT
UID:69e8b03283ed0
SUMMARY:Practical workshop on the implementation of the Luxembourg Rail Pro
 toco
DESCRIPTION:
LOCATION:Stockholm
DTSTART:20240515T120000Z
DTEND:20240515T142500Z
DTSTAMP:20240429T203721Z
ORGANIZER;CN=Transport Forum:MAILTO:info@transportsig.com
END:VEVENT
END:VCALENDAR