BEGIN:VCALENDAR
VERSION:2.0
PRODID:Events Booking
BEGIN:VEVENT
UID:69e93e069af4c
SUMMARY:Prepare Your Fleet for AARTO
DESCRIPTION:
LOCATION:Virtual
DTSTART:20230906T080000Z
DTEND:20230906T100000Z
DTSTAMP:20230831T192239Z
ORGANIZER;CN=Transport Forum:MAILTO:info@transportsig.com
END:VEVENT
END:VCALENDAR