BEGIN:VCALENDAR
VERSION:2.0
PRODID:Events Booking
BEGIN:VEVENT
UID:69e849ada4f90
SUMMARY:Regional Logistics and Transport Conference 
DESCRIPTION:
LOCATION:Nasrec Expo Centre 
DTSTART:20241119T043000Z
DTEND:20241121T150000Z
DTSTAMP:20240801T171831Z
ORGANIZER;CN=Transport Forum:MAILTO:info@transportsig.com
END:VEVENT
END:VCALENDAR