BEGIN:VCALENDAR
VERSION:2.0
PRODID:Events Booking
BEGIN:VEVENT
UID:69e85a62ab5b8
SUMMARY:Responsible Road Freight Event
DESCRIPTION:
LOCATION:Century City\, Cape Town
DTSTART:20241022T073000Z
DTEND:20241022T103000Z
DTSTAMP:20240927T115842Z
ORGANIZER;CN=Transport Forum:MAILTO:info@transportsig.com
END:VEVENT
END:VCALENDAR