BEGIN:VCALENDAR
VERSION:2.0
PRODID:Events Booking
BEGIN:VEVENT
UID:69e8afd39d024
SUMMARY: RFA Convention
DESCRIPTION:
LOCATION:Arabella Hotel\, Hermanus
DTSTART:20240524T060000Z
DTEND:20240526T150000Z
DTSTAMP:20240331T135632Z
ORGANIZER;CN=Transport Forum:MAILTO:info@transportsig.com
END:VEVENT
END:VCALENDAR