BEGIN:VCALENDAR
VERSION:2.0
PRODID:Events Booking
BEGIN:VEVENT
UID:69e87bccd8481
SUMMARY:RFA: Western Cape Stakeholder Conference
DESCRIPTION:
LOCATION:Cape town
DTSTART:20240816T060000Z
DTEND:20240816T140000Z
DTSTAMP:20240723T042102Z
ORGANIZER;CN=Transport Forum:MAILTO:info@transportsig.com
END:VEVENT
END:VCALENDAR