BEGIN:VCALENDAR
VERSION:2.0
PRODID:Events Booking
BEGIN:VEVENT
UID:69e86c9b23e56
SUMMARY:Road Freight Association's Golf Day
DESCRIPTION:
LOCATION:Glendower Golf Course
DTSTART:20240919T050000Z
DTEND:20240919T173000Z
DTSTAMP:20240723T040657Z
ORGANIZER;CN=Transport Forum:MAILTO:info@transportsig.com
END:VEVENT
END:VCALENDAR