BEGIN:VCALENDAR
VERSION:2.0
PRODID:Events Booking
BEGIN:VEVENT
UID:69e85ab99d2f3
SUMMARY:Road Freight SME Summit 2024
DESCRIPTION:
LOCATION:The Focus Rooms\, Modderfontein
DTSTART:20241010T060000Z
DTEND:20241011T143000Z
DTSTAMP:20240829T190252Z
ORGANIZER;CN=Transport Forum:MAILTO:info@transportsig.com
END:VEVENT
END:VCALENDAR