BEGIN:VCALENDAR
VERSION:2.0
PRODID:Events Booking
BEGIN:VEVENT
UID:69e92a44d6edd
SUMMARY:Road Freight SME Summit
DESCRIPTION:
DTSTART:20231020T060000Z
DTEND:20231021T140000Z
DTSTAMP:20230724T060233Z
ORGANIZER;CN=Transport Forum:MAILTO:info@transportsig.com
END:VEVENT
END:VCALENDAR