BEGIN:VCALENDAR
VERSION:2.0
PRODID:Events Booking
BEGIN:VEVENT
UID:69e8afe2c9b53
SUMMARY:Road Pavement Forum
DESCRIPTION:
LOCATION:Virtual
DTSTART:20240530T070000Z
DTEND:20240530T103000Z
DTSTAMP:20240429T205101Z
ORGANIZER;CN=Transport Forum:MAILTO:info@transportsig.com
END:VEVENT
END:VCALENDAR