BEGIN:VCALENDAR
VERSION:2.0
PRODID:Events Booking
BEGIN:VEVENT
UID:69e93eaaec2a5
SUMMARY:ROAD TO DEVAC HYDROGEN-H 2023 | Conference & Expo 
DESCRIPTION:
LOCATION:Sandton
DTSTART:20230906T060000Z
DTEND:20230907T143000Z
DTSTAMP:20230831T191413Z
ORGANIZER;CN=Transport Forum:MAILTO:info@transportsig.com
END:VEVENT
END:VCALENDAR