BEGIN:VCALENDAR
VERSION:2.0
PRODID:Events Booking
BEGIN:VEVENT
UID:69e92a39741d3
SUMMARY:RTMS Internal Auditor Training Course - 04 October 2023
DESCRIPTION:
LOCATION:Virtual
DTSTART:20231004T070000Z
DTEND:20231004T143000Z
DTSTAMP:20230831T193145Z
ORGANIZER;CN=Transport Forum:MAILTO:info@transportsig.com
END:VEVENT
END:VCALENDAR