BEGIN:VCALENDAR
VERSION:2.0
PRODID:Events Booking
BEGIN:VEVENT
UID:69e88aa2f1596
SUMMARY:Rtms workshop
DESCRIPTION:
LOCATION:Dolphins Leap Centre\, Gqeberha
DTSTART:20240719T053000Z
DTEND:20240719T130000Z
DTSTAMP:20240704T113803Z
ORGANIZER;CN=Transport Forum:MAILTO:info@transportsig.com
END:VEVENT
END:VCALENDAR