BEGIN:VCALENDAR
VERSION:2.0
PRODID:Events Booking
BEGIN:VEVENT
UID:69e94ed598ed1
SUMMARY:RTMS Workshop
DESCRIPTION:
LOCATION:Meiring Naudé Road\; Brummeria\; Pretoria
DTSTART:20230822T053000Z
DTEND:20230822T120000Z
DTSTAMP:20230816T051613Z
ORGANIZER;CN=Transport Forum:MAILTO:info@transportsig.com
END:VEVENT
END:VCALENDAR