BEGIN:VCALENDAR
VERSION:2.0
PRODID:Events Booking
BEGIN:VEVENT
UID:69e87b7864a3d
SUMMARY:SABOA Annual Conference
DESCRIPTION:
LOCATION:Setperk Road\, Randpark\, Randburg\, Johannesburg
DTSTART:20240815T043000Z
DTEND:20240815T145000Z
DTSTAMP:20240723T051810Z
ORGANIZER;CN=Transport Forum:MAILTO:info@transportsig.com
END:VEVENT
END:VCALENDAR