BEGIN:VCALENDAR
VERSION:2.0
PRODID:Events Booking
BEGIN:VEVENT
UID:69e93eaa16631
SUMMARY:SABOA Gala Dinner and Conference 5-6 September 2023
DESCRIPTION:
LOCATION:Johannesburg Expo Centre Corner Nasrec & Randshow Roads\, Johannes
 burg\, 2091
DTSTART:20230905T160000Z
DTEND:20230906T140000Z
DTSTAMP:20230725T133908Z
ORGANIZER;CN=Transport Forum:MAILTO:info@transportsig.com
END:VEVENT
END:VCALENDAR