BEGIN:VCALENDAR
VERSION:2.0
PRODID:Events Booking
BEGIN:VEVENT
UID:69e8e7e22a01e
SUMMARY:SADC Industrialisation Forum
DESCRIPTION:
LOCATION:Cape Town\, South Africa 
DTSTART:20240201T060000Z
DTEND:20240201T140000Z
DTSTAMP:20231214T030154Z
ORGANIZER;CN=Transport Forum:MAILTO:info@transportsig.com
END:VEVENT
END:VCALENDAR