BEGIN:VCALENDAR
VERSION:2.0
PRODID:Events Booking
BEGIN:VEVENT
UID:69e830ea9dd36
SUMMARY:SAOGA - 3rd Annual Golf Day
DESCRIPTION:
LOCATION:Rondebosch Golf Club
DTSTART:20241129T043000Z
DTEND:20241129T170000Z
DTSTAMP:20241031T120742Z
ORGANIZER;CN=Transport Forum:MAILTO:info@transportsig.com
END:VEVENT
END:VCALENDAR