BEGIN:VCALENDAR
VERSION:2.0
PRODID:Events Booking
BEGIN:VEVENT
UID:69e92bfd32ca2
SUMMARY:SAOGA and Exhibit at AFRICA OIL WEEK (AOW) 2023 in Cape Town
DESCRIPTION:
LOCATION:Cape Town\, South Africa 
DTSTART:20231009T060000Z
DTEND:20231013T143000Z
DTSTAMP:20230925T043406Z
ORGANIZER;CN=Transport Forum:MAILTO:info@transportsig.com
END:VEVENT
END:VCALENDAR