BEGIN:VCALENDAR
VERSION:2.0
PRODID:Events Booking
BEGIN:VEVENT
UID:69e93ec9e874c
SUMMARY:SAOGA - 3rd Annual Southern Africa Oil and Gas Conference & Expo
DESCRIPTION:
LOCATION:Cape Town
DTSTART:20230913T060000Z
DTEND:20230914T143000Z
DTSTAMP:20230831T193955Z
ORGANIZER;CN=Transport Forum:MAILTO:info@transportsig.com
END:VEVENT
END:VCALENDAR