BEGIN:VCALENDAR
VERSION:2.0
PRODID:Events Booking
BEGIN:VEVENT
UID:69e8d5cc661aa
SUMMARY:SAOGA at The Africa Energy Indaba 2024
DESCRIPTION:
LOCATION:Cape Town
DTSTART:20240304T060000Z
DTEND:20240307T150000Z
DTSTAMP:20240214T193907Z
ORGANIZER;CN=Transport Forum:MAILTO:info@transportsig.com
END:VEVENT
END:VCALENDAR