BEGIN:VCALENDAR
VERSION:2.0
PRODID:Events Booking
BEGIN:VEVENT
UID:69e8d444da53e
SUMMARY:SAOGA: FREE IMCA Europe & Africa Regional Meeting in Cape Town
DESCRIPTION:
LOCATION:Cape Town\, South Africa 
DTSTART:20240313T063000Z
DTEND:20240313T170000Z
DTSTAMP:20240229T105852Z
ORGANIZER;CN=Transport Forum:MAILTO:info@transportsig.com
END:VEVENT
END:VCALENDAR