BEGIN:VCALENDAR
VERSION:2.0
PRODID:Events Booking
BEGIN:VEVENT
UID:69e962be9d457
SUMMARY:SAOGA Oil\, Gas and Energy  Outward Mission to Mozambique
DESCRIPTION:
LOCATION:Mozambique
DTSTART:20230723T060000Z
DTEND:20230727T140000Z
DTSTAMP:20230628T185031Z
ORGANIZER;CN=Transport Forum:MAILTO:info@transportsig.com
END:VEVENT
END:VCALENDAR