BEGIN:VCALENDAR
VERSION:2.0
PRODID:Events Booking
BEGIN:VEVENT
UID:69e8c4283903b
SUMMARY:SAOGA - our Uganda Oil\, Gas & Energy focused Business Trade Missio
 n
DESCRIPTION:
LOCATION:Uganda
DTSTART:20240421T060000Z
DTEND:20240425T150000Z
DTSTAMP:20240130T202634Z
ORGANIZER;CN=Transport Forum:MAILTO:info@transportsig.com
END:VEVENT
END:VCALENDAR