BEGIN:VCALENDAR
VERSION:2.0
PRODID:Events Booking
BEGIN:VEVENT
UID:69e847762aca1
SUMMARY:SARF AGM Nov 22
DESCRIPTION:
LOCATION:Brummeria
DTSTART:20241122T060000Z
DTEND:20241122T150000Z
DTSTAMP:20240829T184538Z
ORGANIZER;CN=Transport Forum:MAILTO:info@transportsig.com
END:VEVENT
END:VCALENDAR