BEGIN:VCALENDAR
VERSION:2.0
PRODID:Events Booking
BEGIN:VEVENT
UID:69e88b45285a7
SUMMARY:SARF KZN informative webinar
DESCRIPTION:
LOCATION:Webinar
DTSTART:20240724T090000Z
DTEND:20240724T100000Z
DTSTAMP:20240723T054942Z
ORGANIZER;CN=Transport Forum:MAILTO:info@transportsig.com
END:VEVENT
END:VCALENDAR