BEGIN:VCALENDAR
VERSION:2.0
PRODID:Events Booking
BEGIN:VEVENT
UID:69e93ecae69a6
SUMMARY:SARF LAFARGE Quarry Visit - 7 September 2023 at 13h00  - Western Ca
 pe Region
DESCRIPTION:
LOCATION:Tygerberg Quarry
DTSTART:20230907T110000Z
DTEND:20230907T133000Z
DTSTAMP:20230831T185920Z
ORGANIZER;CN=Transport Forum:MAILTO:info@transportsig.com
END:VEVENT
END:VCALENDAR