BEGIN:VCALENDAR
VERSION:2.0
PRODID:Events Booking
BEGIN:VEVENT
UID:69e846f63604a
SUMMARY:SATC Eastern Cape November
DESCRIPTION:
LOCATION:Africanos Country Estate\, Addo
DTSTART:20241104T050000Z
DTEND:20241106T150000Z
DTSTAMP:20241022T170801Z
ORGANIZER;CN=Transport Forum:MAILTO:info@transportsig.com
END:VEVENT
END:VCALENDAR